BEGIN:VCALENDAR
VERSION:2.0
PRODID:-//A Transform Hub - ECPv6.15.20//NONSGML v1.0//EN
CALSCALE:GREGORIAN
METHOD:PUBLISH
X-ORIGINAL-URL:https://atransformhub.com
X-WR-CALDESC:Events for A Transform Hub
REFRESH-INTERVAL;VALUE=DURATION:PT1H
X-Robots-Tag:noindex
X-PUBLISHED-TTL:PT1H
BEGIN:VTIMEZONE
TZID:Asia/Kolkata
BEGIN:STANDARD
TZOFFSETFROM:+0530
TZOFFSETTO:+0530
TZNAME:IST
DTSTART:20240101T000000
END:STANDARD
END:VTIMEZONE
BEGIN:VEVENT
DTSTART;TZID=Asia/Kolkata:20251116T150000
DTEND;TZID=Asia/Kolkata:20251116T170000
DTSTAMP:20260421T155041
CREATED:20251110T083922Z
LAST-MODIFIED:20251110T111143Z
UID:134-1763305200-1763312400@atransformhub.com
SUMMARY:Beat Exam Stress Fast!
DESCRIPTION:Beat Exam Stress Fast! – Free Intro Session \n\n\nDate\nSunday\, Nov 16\, 2025\n\n\nTime\n3:00 PM – 5:00 PM\n\n\nVenue\nA Transform Hub\, Near Hana School\, Thudiyalur–Saravanampatti Road\, Coimbatore\, 641029\n\n\nFacilitator\nSofia Joghee (Mind Coach & Clinical Hypnotherapy Practitioner)\n\n\nFree Intro Session — What Students Will Learn \n\n🧠 5-minute stress release technique\n🎯 Focus-reset method\n🌿 Calm the mind before & during exams\n🛌 Guided relaxation practice\n\nMind Power Exam Performance Series — 5 Weeks (Optional) \n\n1️⃣ Memory Techniques\n2️⃣ Focus on Demand\n3️⃣ Study Smart Planning\n4️⃣ Confidence & Self-talk\n5️⃣ Exam Hall Strategy\n\nFees: ₹1000 (existing students) • ₹2000 (new participants) \n\n  👉 Register Free Seat  | \n  📲 WhatsApp  | \n  📞 Call
URL:https://atransformhub.com/event/beat-exam-stress-fast/
LOCATION:A Transform Hub\, A Transform Hub\, Near Hana School\, Thudiyalur-Saravanampatti road\, Coimbatore\, 641029\, India
ATTACH;FMTTYPE=image/jpeg:https://atransformhub.com/wp-content/uploads/2025/11/Designer-37-e1762755276608.jpeg
END:VEVENT
END:VCALENDAR